BEGIN:VCALENDAR
VERSION:2.0
PRODID:-//AVVENIRE - ECPv6.15.20//NONSGML v1.0//EN
CALSCALE:GREGORIAN
METHOD:PUBLISH
X-ORIGINAL-URL:https://avvenire.com
X-WR-CALDESC:Events for AVVENIRE
REFRESH-INTERVAL;VALUE=DURATION:PT1H
X-Robots-Tag:noindex
X-PUBLISHED-TTL:PT1H
BEGIN:VTIMEZONE
TZID:America/Toronto
BEGIN:DAYLIGHT
TZOFFSETFROM:-0500
TZOFFSETTO:-0400
TZNAME:EDT
DTSTART:20230312T070000
END:DAYLIGHT
BEGIN:STANDARD
TZOFFSETFROM:-0400
TZOFFSETTO:-0500
TZNAME:EST
DTSTART:20231105T060000
END:STANDARD
BEGIN:DAYLIGHT
TZOFFSETFROM:-0500
TZOFFSETTO:-0400
TZNAME:EDT
DTSTART:20240310T070000
END:DAYLIGHT
BEGIN:STANDARD
TZOFFSETFROM:-0400
TZOFFSETTO:-0500
TZNAME:EST
DTSTART:20241103T060000
END:STANDARD
BEGIN:DAYLIGHT
TZOFFSETFROM:-0500
TZOFFSETTO:-0400
TZNAME:EDT
DTSTART:20250309T070000
END:DAYLIGHT
BEGIN:STANDARD
TZOFFSETFROM:-0400
TZOFFSETTO:-0500
TZNAME:EST
DTSTART:20251102T060000
END:STANDARD
END:VTIMEZONE
BEGIN:VEVENT
DTSTART;TZID=America/Toronto:20241010T150000
DTEND;TZID=America/Toronto:20241010T160000
DTSTAMP:20260422T050446
CREATED:20241001T181824Z
LAST-MODIFIED:20241001T202248Z
UID:10411-1728572400-1728576000@avvenire.com
SUMMARY:Webinar October 10th
DESCRIPTION:
URL:https://avvenire.com/event/webinar-october-10th/
ATTACH;FMTTYPE=image/jpeg:https://avvenire.com/wp-content/uploads/2024/10/Avvenire_Webinar_Banner-scaled.jpg
END:VEVENT
BEGIN:VEVENT
DTSTART;TZID=America/Toronto:20241008T150000
DTEND;TZID=America/Toronto:20241008T160000
DTSTAMP:20260422T050446
CREATED:20241001T181741Z
LAST-MODIFIED:20241001T202509Z
UID:10410-1728399600-1728403200@avvenire.com
SUMMARY:Webinar October 8th
DESCRIPTION:
URL:https://avvenire.com/event/webinar-october-8th/
ATTACH;FMTTYPE=image/jpeg:https://avvenire.com/wp-content/uploads/2024/10/Avvenire_Webinar_Banner-scaled.jpg
END:VEVENT
BEGIN:VEVENT
DTSTART;TZID=America/Toronto:20241003T150000
DTEND;TZID=America/Toronto:20241003T160000
DTSTAMP:20260422T050446
CREATED:20241001T181637Z
LAST-MODIFIED:20241001T202550Z
UID:10409-1727967600-1727971200@avvenire.com
SUMMARY:Webinar October 3rd
DESCRIPTION:
URL:https://avvenire.com/event/webinar-october-3rd/
ATTACH;FMTTYPE=image/jpeg:https://avvenire.com/wp-content/uploads/2024/10/Avvenire_Webinar_Banner-scaled.jpg
END:VEVENT
END:VCALENDAR